BEGIN:VCALENDAR
VERSION:2.0
PRODID:-//Lode Parish Council//Meeting Calendar//EN
CALSCALE:GREGORIAN
METHOD:PUBLISH
BEGIN:VEVENT
UID:71627-20260309@lode-pc.gov.uk
DTSTAMP:20260425T104340Z
DTSTART;VALUE=DATE:20260309
DTEND;VALUE=DATE:20260310
SUMMARY:Full Council Meeting &#8211\\; Meeting Room\\, St James Church
DESCRIPTION:Full Council Meeting\nView details: https://lode-pc.gov.uk/meetings/full-council-meeting-meeting-room-st-james-church/
URL:https://lode-pc.gov.uk/meetings/full-council-meeting-meeting-room-st-james-church/
END:VEVENT
END:VCALENDAR
