BEGIN:VCALENDAR
VERSION:2.0
PRODID:-//Lode Parish Council//Meeting Calendar//EN
CALSCALE:GREGORIAN
METHOD:PUBLISH
BEGIN:VEVENT
UID:71583-20260112@lode-pc.gov.uk
DTSTAMP:20260423T085228Z
DTSTART;VALUE=DATE:20260112
DTEND;VALUE=DATE:20260113
SUMMARY:Full Council Meeting 12th January 2026
DESCRIPTION:Full Council Meeting\nView details: https://lode-pc.gov.uk/meetings/meeting-name-here-4/
URL:https://lode-pc.gov.uk/meetings/meeting-name-here-4/
END:VEVENT
END:VCALENDAR
