BEGIN:VCALENDAR
VERSION:2.0
PRODID:-//Lode Parish Council//Meeting Calendar//EN
CALSCALE:GREGORIAN
METHOD:PUBLISH
BEGIN:VEVENT
UID:71540-20251013@lode-pc.gov.uk
DTSTAMP:20260424T180826Z
DTSTART;VALUE=DATE:20251013
DTEND;VALUE=DATE:20251014
SUMMARY:Full Council Meeting 13th October 2025
DESCRIPTION:Full Council Meeting\nView details: https://lode-pc.gov.uk/meetings/full-council-meeting-13th-october-2025/
URL:https://lode-pc.gov.uk/meetings/full-council-meeting-13th-october-2025/
END:VEVENT
END:VCALENDAR
