BEGIN:VCALENDAR
VERSION:2.0
PRODID:-//Lode Parish Council//Meeting Calendar//EN
CALSCALE:GREGORIAN
METHOD:PUBLISH
BEGIN:VEVENT
UID:70498-20220912@lode-pc.gov.uk
DTSTAMP:20260421T075904Z
DTSTART;VALUE=DATE:20220912
DTEND;VALUE=DATE:20220913
SUMMARY:Council Meeting &#8211\\; 12th September 2022
DESCRIPTION:Full Council Meeting\nView details: https://lode-pc.gov.uk/meetings/council-meeting-12th-september-2022/
URL:https://lode-pc.gov.uk/meetings/council-meeting-12th-september-2022/
END:VEVENT
END:VCALENDAR
