BEGIN:VCALENDAR
VERSION:2.0
PRODID:-//Lode Parish Council//Meeting Calendar//EN
CALSCALE:GREGORIAN
METHOD:PUBLISH
BEGIN:VEVENT
UID:70436-20210412@lode-pc.gov.uk
DTSTAMP:20260421T080838Z
DTSTART;VALUE=DATE:20210412
DTEND;VALUE=DATE:20210413
SUMMARY:Council Meeting &#8211\\; 12th April 2021
DESCRIPTION:Full Council Meeting\nView details: https://lode-pc.gov.uk/meetings/council-meeting-12th-april-2021/
URL:https://lode-pc.gov.uk/meetings/council-meeting-12th-april-2021/
END:VEVENT
END:VCALENDAR
