BEGIN:VCALENDAR
VERSION:2.0
PRODID:-//Lode Parish Council//Meeting Calendar//EN
CALSCALE:GREGORIAN
METHOD:PUBLISH
BEGIN:VEVENT
UID:70395-20200615@lode-pc.gov.uk
DTSTAMP:20260425T010000Z
DTSTART;VALUE=DATE:20200615
DTEND;VALUE=DATE:20200616
SUMMARY:Council Meeting &#8211\\; 15th June 2020
DESCRIPTION:Full Council Meeting\nView details: https://lode-pc.gov.uk/meetings/council-meeting-15th-june-2020/
URL:https://lode-pc.gov.uk/meetings/council-meeting-15th-june-2020/
END:VEVENT
END:VCALENDAR
