BEGIN:VCALENDAR
VERSION:2.0
PRODID:-//Lode Parish Council//Meeting Calendar//EN
CALSCALE:GREGORIAN
METHOD:PUBLISH
BEGIN:VEVENT
UID:70342-20190408@lode-pc.gov.uk
DTSTAMP:20260424T193323Z
DTSTART;VALUE=DATE:20190408
DTEND;VALUE=DATE:20190409
SUMMARY:Council Meeting &#8211\\; 8th April 2019
DESCRIPTION:Full Council Meeting\nView details: https://lode-pc.gov.uk/meetings/council-meeting-8th-april-2019/
URL:https://lode-pc.gov.uk/meetings/council-meeting-8th-april-2019/
END:VEVENT
END:VCALENDAR
