BEGIN:VCALENDAR
VERSION:2.0
PRODID:-//Lode Parish Council//Meeting Calendar//EN
CALSCALE:GREGORIAN
METHOD:PUBLISH
BEGIN:VEVENT
UID:70338-20190311@lode-pc.gov.uk
DTSTAMP:20260424T192349Z
DTSTART;VALUE=DATE:20190311
DTEND;VALUE=DATE:20190312
SUMMARY:Council Meeting &#8211\\; 11th March 2019
DESCRIPTION:Full Council Meeting\nView details: https://lode-pc.gov.uk/meetings/council-meeting-11th-march-2019/
URL:https://lode-pc.gov.uk/meetings/council-meeting-11th-march-2019/
END:VEVENT
END:VCALENDAR
